BEGIN:VCALENDAR
VERSION:2.0
PRODID:-//Literaturszene Köln e.V. - ECPv6.15.20//NONSGML v1.0//EN
CALSCALE:GREGORIAN
METHOD:PUBLISH
X-WR-CALNAME:Literaturszene Köln e.V.
X-ORIGINAL-URL:https://literaturszene-koeln.de
X-WR-CALDESC:Veranstaltungen für Literaturszene Köln e.V.
REFRESH-INTERVAL;VALUE=DURATION:PT1H
X-Robots-Tag:noindex
X-PUBLISHED-TTL:PT1H
BEGIN:VTIMEZONE
TZID:Europe/Berlin
BEGIN:DAYLIGHT
TZOFFSETFROM:+0100
TZOFFSETTO:+0200
TZNAME:CEST
DTSTART:20200329T010000
END:DAYLIGHT
BEGIN:STANDARD
TZOFFSETFROM:+0200
TZOFFSETTO:+0100
TZNAME:CET
DTSTART:20201025T010000
END:STANDARD
BEGIN:DAYLIGHT
TZOFFSETFROM:+0100
TZOFFSETTO:+0200
TZNAME:CEST
DTSTART:20210328T010000
END:DAYLIGHT
BEGIN:STANDARD
TZOFFSETFROM:+0200
TZOFFSETTO:+0100
TZNAME:CET
DTSTART:20211031T010000
END:STANDARD
BEGIN:DAYLIGHT
TZOFFSETFROM:+0100
TZOFFSETTO:+0200
TZNAME:CEST
DTSTART:20220327T010000
END:DAYLIGHT
BEGIN:STANDARD
TZOFFSETFROM:+0200
TZOFFSETTO:+0100
TZNAME:CET
DTSTART:20221030T010000
END:STANDARD
END:VTIMEZONE
BEGIN:VEVENT
DTSTART;TZID=Europe/Berlin:20211218T200000
DTEND;TZID=Europe/Berlin:20211218T213000
DTSTAMP:20260421T034144
CREATED:20211110T193252Z
LAST-MODIFIED:20211218T210232Z
UID:17412-1639857600-1639863000@literaturszene-koeln.de
SUMMARY:WerkSTADT-LESUNG: WORAUF WARTEN?
DESCRIPTION:Unter dem Schlagwort WerkSTADT öffnet sich das Freie Werkstatt Theater für die Menschen der Stadt. Noch mehr als bisher wollen wir\, dass Köln auf uns wirkt und wir auf Köln. Zum Thema “WORAUF WARTEN?” suchen wir Texte\, Gedichte\, Dialoge\, Manifeste\, Tagebucheinträge – die Form ist egal. Wir wollen hören\, was Ihr zu sagen habt! Alle sind herzlich eingeladen\, ihre Texte bis zum 06.12. an info@fwt-koeln.de zu schicken.\nAm 18.12. werden die Texte dann auf der Bühne des Freien Werkstatt Theaters zu hören sein\, vorgetragen von der Schauspielerin Fiona Metscher oder den Autor:innen selbst. \n  \nTermin: 18. Dezember\, 20:00 Uhr\nEintritt: 15 Euro / ermäßigt 10 Euro
URL:https://literaturszene-koeln.de/termin/werkstadt-lesung-worauf-warten/
LOCATION:Freies Werkstatt Theater Köln\, Zugweg 10\, Köln\, 50677\, Deutschland
ATTACH;FMTTYPE=image/jpeg:https://literaturszene-koeln.de/wp-content/uploads/2021/11/Worauf_Warten_Notiz-ujPbAr.tmp_.jpg
END:VEVENT
BEGIN:VEVENT
DTSTART;TZID=Europe/Berlin:20211109T200000
DTEND;TZID=Europe/Berlin:20211109T213000
DTSTAMP:20260421T034144
CREATED:20211103T193313Z
LAST-MODIFIED:20211109T193256Z
UID:17362-1636488000-1636493400@literaturszene-koeln.de
SUMMARY:Lesung mit Alice Hasters
DESCRIPTION:Alice Hasters liest aus ihrem Buch “Was weiße Menschen nicht über Rassismus hören wollen\, aber wissen sollten” \nWer Rassismus bekämpfen will\, muss Veränderung befürworten – und die fängt bei einem selbst an. Sich den eigenen Rassismus vor Augen zu halten\, ist schmerzhaft\, aber der einzige Weg\, ihn zu überwinden. Die Journalistin Alice Hasters beschreibt eindringlich\, wie Rassismen ihren Alltag als Schwarze Frau in Deutschland prägen. Dabei wird klar: Rassistisches Denken und Handeln hat seinen Platz nicht nur am rechten Rand unserer Gesellschaft. \nVerlag hanserblau\, Carl Hanser Verlag\, Berlin  \nTermin: 9. November 2021\, 20:00 Uhr im Freien Werkstatt Theater Köln\, Zugweg 10\, 50677 Köln \nKartenbuchung unter www.offticket.de\, karten@fwt-koeln.de oder Tel. 0221-327817 \nFoto: (c) H. Henkensiefken\, www.pixxwerk.de
URL:https://literaturszene-koeln.de/termin/lesung-mit-alice-hasters/
LOCATION:Freies Werkstatt Theater Köln\, Zugweg 10\, Köln\, 50677\, Deutschland
CATEGORIES:Gespräche,Lesung
ATTACH;FMTTYPE=image/jpeg:https://literaturszene-koeln.de/wp-content/uploads/2021/11/Alice-Hasters_hf1_c-H.-Henkensiefken-www.pixxwerk.de_-b0Xy9O.tmp_.jpg
END:VEVENT
END:VCALENDAR