BEGIN:VCALENDAR
VERSION:2.0
PRODID:-//Literaturszene Köln e.V. - ECPv6.15.20//NONSGML v1.0//EN
CALSCALE:GREGORIAN
METHOD:PUBLISH
X-WR-CALNAME:Literaturszene Köln e.V.
X-ORIGINAL-URL:https://literaturszene-koeln.de
X-WR-CALDESC:Veranstaltungen für Literaturszene Köln e.V.
REFRESH-INTERVAL;VALUE=DURATION:PT1H
X-Robots-Tag:noindex
X-PUBLISHED-TTL:PT1H
BEGIN:VTIMEZONE
TZID:Europe/Berlin
BEGIN:DAYLIGHT
TZOFFSETFROM:+0100
TZOFFSETTO:+0200
TZNAME:CEST
DTSTART:20200329T010000
END:DAYLIGHT
BEGIN:STANDARD
TZOFFSETFROM:+0200
TZOFFSETTO:+0100
TZNAME:CET
DTSTART:20201025T010000
END:STANDARD
BEGIN:DAYLIGHT
TZOFFSETFROM:+0100
TZOFFSETTO:+0200
TZNAME:CEST
DTSTART:20210328T010000
END:DAYLIGHT
BEGIN:STANDARD
TZOFFSETFROM:+0200
TZOFFSETTO:+0100
TZNAME:CET
DTSTART:20211031T010000
END:STANDARD
BEGIN:DAYLIGHT
TZOFFSETFROM:+0100
TZOFFSETTO:+0200
TZNAME:CEST
DTSTART:20220327T010000
END:DAYLIGHT
BEGIN:STANDARD
TZOFFSETFROM:+0200
TZOFFSETTO:+0100
TZNAME:CET
DTSTART:20221030T010000
END:STANDARD
BEGIN:DAYLIGHT
TZOFFSETFROM:+0100
TZOFFSETTO:+0200
TZNAME:CEST
DTSTART:20230326T010000
END:DAYLIGHT
BEGIN:STANDARD
TZOFFSETFROM:+0200
TZOFFSETTO:+0100
TZNAME:CET
DTSTART:20231029T010000
END:STANDARD
END:VTIMEZONE
BEGIN:VEVENT
DTSTART;TZID=Europe/Berlin:20220621T200000
DTEND;TZID=Europe/Berlin:20220621T213000
DTSTAMP:20260421T020038
CREATED:20220603T141742Z
LAST-MODIFIED:20220621T144800Z
UID:18224-1655841600-1655847000@literaturszene-koeln.de
SUMMARY:#WerkStadt-LESUNG: ALS OB
DESCRIPTION:Wir suchen Texte\, Gedichte\, Dialoge\, Manifeste\, Tagebucheinträge – von Euch!! Eine Lesung mit Texten aus dem Publikum\, vorgetragen von den Autor:innen oder von Schauspielerin Fiona Metscher \n\n\n\n#WerkStadt ist das Schlagwort\, unter dem wir uns noch stärker als ohnehin schon mit Köln verbinden wollen. Einwirken auf die Stadt und sie auf uns wirken lassen. Die nächste #WerkStadt-Lesung steht nach den ersten drei Abenden “WORAUF WARTEN?”\, “KIPP-PUNKTE” und “VER(W)IRRUNG” jetzt unter dem Motto “ALS OB”. \nSchickt uns Eure Texte zum Thema “ALS OB”! Die Form ist egal. Wir wollen hören\, was Ihr zu sagen habt. Alle sind herzlich eingeladen\, ihre Texte bis zum 16. Juni an info@fwt-koeln.de zu senden. \nAm 21. Juni werden die Texte dann auf der Bühne des FWT zu hören sein\, vorgetragen von der Schauspielerin Fiona Metscher – oder gerne auch von den Autor:innen selbst. \nEintritt frei\, Spenden willkommen\, Anmeldung erbeten
URL:https://literaturszene-koeln.de/termin/werkstadt-lesung-als-ob/
LOCATION:Freies Werkstatt Theater Köln\, Zugweg 10\, Köln\, 50677\, Deutschland
CATEGORIES:Lesung
ATTACH;FMTTYPE=image/jpeg:https://literaturszene-koeln.de/wp-content/uploads/2022/06/Als-ob-jOTpTo.tmp_.jpg
END:VEVENT
BEGIN:VEVENT
DTSTART;TZID=Europe/Berlin:20220607T200000
DTEND;TZID=Europe/Berlin:20220607T213000
DTSTAMP:20260421T020038
CREATED:20220413T155536Z
LAST-MODIFIED:20220607T141715Z
UID:17980-1654632000-1654637400@literaturszene-koeln.de
SUMMARY:LESUNG MIT MITHU SANYAL
DESCRIPTION:Identitätssuche im Schleudergang: Weise und witzig. Mithu Sanyal liest im FWT: aus ihrem Roman “Identitti”.\nWas für ein Skandal: Prof. Dr. Saraswati ist WEISS! Schlimmer geht es nicht. Denn die Professorin für Postcolonial Studies in Düsseldorf war eben noch die Übergöttin aller Debatten über Identität – und beschrieb sich als Person of Colour.\nUnd nun das. Sofort beginnt das Netz\, die Professorin zu jagen\, fordert ihre Entlassung – ihre Studentin Nivedita aber stellt Fragen. Intimster Art. Sich selbst und ihrer Professorin. Nivedita\, geboren in Deutschland\, hat einen indischen Vater und hat sich immer mit der Professorin identifiziert.\nIdentität\, was ist das überhaupt? Als würden Sally Rooney\, Beyoncé und Frantz Fanon zusammen Sex Education gucken\, beginnt eine Jagd nach „echter“ Zugehörigkeit.\nMithu Sanyal schreibt mit beglückender Selbstironie und befreiendem Wissen. „Was für eine gnadenlos witzige Identitätssuche\, die nichts und niemanden schont“\, schreibt Alina Bronsky über das Buch. “Man ist nach der Lektüre nicht bloß schlauer – sondern auch garantiert besser gelaunt“. Den Schleudergang dieses Romans verlässt niemand\, ohne selbst verändert zu sein.\nMithu Sanyal wurde 1971 in Düsseldorf geboren und ist Kulturwissenschaftlerin\, Autorin\, Journalistin und Kritikerin. 2009 erschien ihr Sachbuch “Vulva. Das unsichtbare Geschlecht”\, 2016 “Vergewaltigung. Aspekte eines Verbrechens.”\n\n\n\n\n\n\nTermin: 7. Juni 2022\, 20:00 Uhr im Freien Werkstatt Theater Köln\, Zugweg 10\, 50677 Köln\nKartenbuchung unter www.offticket.de\,karten@fwt-koeln.de oder Tel. 0221-327817\n\n\nFoto: (c) Guido Schiefer
URL:https://literaturszene-koeln.de/termin/lesung-mit-mithu-sanyal/
LOCATION:Freies Werkstatt Theater Köln\, Zugweg 10\, Köln\, 50677\, Deutschland
CATEGORIES:Lesung
ATTACH;FMTTYPE=image/jpeg:https://literaturszene-koeln.de/wp-content/uploads/2022/04/Mithu-Sanyal_cGuidoSchiefer_1-CqvJXQ.tmp_.jpg
END:VEVENT
BEGIN:VEVENT
DTSTART;TZID=Europe/Berlin:20220607T190000
DTEND;TZID=Europe/Berlin:20220607T203000
DTSTAMP:20260421T020038
CREATED:20220603T141714Z
LAST-MODIFIED:20220607T141714Z
UID:18222-1654628400-1654633800@literaturszene-koeln.de
SUMMARY:Text und Performance Workshop mit Leah Leaf
DESCRIPTION:Die Poetry-Slammerin zeigt\, wie aus Gedanken und Gefühlen gesprochene Worte werden können. Übungen und Austausch zu kreativem Schreiben und Performance. Eintritt auf Spendenbasis \n\n\n\nWas schreibe ich? Wie schreibe ich? Und dann auch noch vortragen?\nLeah Leaf kennt diese Themen als erfahrene Poetry-Slammerin. In ihrem Text- und Performance-Workshop lässt sie Besucher:innen teilhaben an ihrem Erfahrungsschatz. Und zeigt\, wie aus Gedanken und Gefühlen gesprochenes Wort werden kann – und ein gelungener Vortrag. \nAnmeldung zum Workshop unter info@fwt-koeln.de\, Eintritt auf Spendenbasis.
URL:https://literaturszene-koeln.de/termin/text-und-performance-workshop-mit-leah-leaf/
LOCATION:Freies Werkstatt Theater Köln\, Zugweg 10\, Köln\, 50677\, Deutschland
CATEGORIES:Workshop
ATTACH;FMTTYPE=image/jpeg:https://literaturszene-koeln.de/wp-content/uploads/2022/06/Leah-Leaf-iglOUQ.tmp_.jpg
END:VEVENT
BEGIN:VEVENT
DTSTART;TZID=Europe/Berlin:20220510T200000
DTEND;TZID=Europe/Berlin:20220510T213000
DTSTAMP:20260421T020038
CREATED:20220413T155048Z
LAST-MODIFIED:20220510T180206Z
UID:17973-1652212800-1652218200@literaturszene-koeln.de
SUMMARY:#WerkStadt-Lesung: VER(W)IRRUNG
DESCRIPTION:#WerkStadt ist das Schlagwort\, unter dem wir uns noch stärker als ohnehin schon mit Köln verbinden wollen. Einwirken auf die Stadt und sie auf uns wirken lassen. Die nächste #WerkStadt-Lesung steht unter dem Motto “VER(W)IRRUNG”. \nSchickt uns Eure Texte zum Thema VER(W)IRRUNG! Die Form ist egal. Wir wollen hören\, was Ihr zu sagen habt. Alle sind herzlich eingeladen\, ihre Texte bis zum 5. Mai an info@fwt-koeln.de zu senden.\nAm 10. Mai werden die Texte dann auf der Bühne des FWT zu hören sein\, vorgetragen von der Schauspielerin Fiona Metscher – oder gerne auch von den Autor:innen selbst.\n\nTermin: 10. Mai 2022\, 20:00 Uhr im Freien Werkstatt Theater Köln\, Zugweg 10\, 50677 Köln\nEintritt frei\, Spenden willkommen\, Anmeldung erbeten unter karten@fwt-koeln.de oder Tel. 0221-327817
URL:https://literaturszene-koeln.de/termin/werkstadt-lesung-verwirrung/
LOCATION:Freies Werkstatt Theater Köln\, Zugweg 10\, Köln\, 50677\, Deutschland
CATEGORIES:Lesebühne,Lesung
ATTACH;FMTTYPE=image/png:https://literaturszene-koeln.de/wp-content/uploads/2022/04/WerkStadt-Lesung-Verwirrung-2-VCDNgr.tmp_.png
END:VEVENT
BEGIN:VEVENT
DTSTART;TZID=Europe/Berlin:20220318T200000
DTEND;TZID=Europe/Berlin:20220318T213000
DTSTAMP:20260421T020038
CREATED:20220209T230327Z
LAST-MODIFIED:20220318T143223Z
UID:17707-1647633600-1647639000@literaturszene-koeln.de
SUMMARY:#WerkStadt-Lesung FWT: „KIPP-PUNKTE“
DESCRIPTION:Unter dem Stichwort #WerkStadt öffnet sich das FWT erneut für die Menschen der Stadt. Noch mehr als bisher wollen wir\, dass Köln auf uns wirkt und wir auf Köln.\nZum Thema “Kipp-Punkte” suchen wir Texte\, Gedichte\, Dialoge\, Manifeste\, Tagebucheinträge – die Form ist egal. Wir wollen hören\, was Ihr zu sagen habt! Alle sind herzlich eingeladen\, ihre Texte bis zum 13.3. an info@fwt-koeln.de zu schicken.\nAm 18.3. geht es damit dann auf die Bühne\, vorgetragen von der Schauspielerin Fiona Metscher oder den Autor:innen selbst.\n\nEintritt frei\, Anmeldung erbeten unter Tel. 0221-327817 oder karten@fwt-koeln.de 
URL:https://literaturszene-koeln.de/termin/werkstadt-lesung-fwt-kipp-punkte/
LOCATION:Freies Werkstatt Theater Köln\, Zugweg 10\, Köln\, 50677\, Deutschland
CATEGORIES:Lesung
END:VEVENT
BEGIN:VEVENT
DTSTART;TZID=Europe/Berlin:20220313T180000
DTEND;TZID=Europe/Berlin:20220313T193000
DTSTAMP:20260421T020038
CREATED:20220209T230326Z
LAST-MODIFIED:20220313T143213Z
UID:17706-1647194400-1647199800@literaturszene-koeln.de
SUMMARY:LYRIKS – Koproduktion subbotnik mit dem Theater a. d. Ruhr Mülheim\, dem FFT Düsseldorf und dem FWT
DESCRIPTION:Ein Teil von uns ist in Brasilien\, oder an der Schwarzmeerküste im Nebel. Ein anderer ist immer und überall. Zwei sind irgendwo auf der Autobahn im Regen. Nach Italien fährt Niemand. Einer ist aus der Zeit gefallen\, will unbedingt fort. Die aus dem Auto ist schon längst woanders.\nEin Langhaariger redet ununterbrochen\, obwohl er eigentlich gar nix muss. Einer verläuft sich im Wald. Jemand ist Baum. Wörter erklingen einzeln\, gleichzeitig\, werden sichtbar\, lassen das Zeitgefühl verschwimmen. Und am Sonntag steht alles still\, hinter dem Fenster Regen.\nWir trinken schwarzen Kaffee und machen Musik auf Keyboards und Schreibmaschinen\, lassen Welten entstehen und lauschen ihrem Nachklang. Und die Kaffeemaschine murrt unausgeschlafen mit kratzigem Hals.\nSubbotnik und das Ensemble des Theater an der Ruhr entdecken das Universum der Poesie: eine Reise durch Zeit und Raum\, ein Wortkonzert\, ein lyrisches Album voller lauter und leiser Bilder.\n\n\nGefördert durch das Ministerium für Kultur und Wissenschaft des Landes NRW und das Kulturamt der Stadt Köln. \nMusik\, Percussion und Performance Berit Vander\, Leonhard Hugger\, Steffen Reuber\, Jacqueline Ferreira Dourado\, Kornelius Heidebrecht\, Oleg Zhukov\, Martin Kloepfer | Regie\, Dramaturgie\, Musik\, Raum und Licht Kollektiv subbotnik | Dramaturgie und Produktionsleitung Nora Vollmond | Licht Fritz Dumcius | Kostüm Heinke Stork  \n\n\nSpieltermine: 9. (Köln-Premiere)\, 11.\, 12. März\, jeweils 19:00 Uhr; 10. März\, 11:00 Uhr; 13. März\, 18:00 Uhr  \n\n\nFoto: © Franziska Götzen
URL:https://literaturszene-koeln.de/termin/lyriks-koproduktion-subbotnik-mit-dem-theater-a-d-ruhr-muelheim-dem-fft-duesseldorf-und-dem-fwt-5/
LOCATION:Freies Werkstatt Theater Köln\, Zugweg 10\, Köln\, 50677\, Deutschland
CATEGORIES:Literatur-Show
ATTACH;FMTTYPE=image/jpeg:https://literaturszene-koeln.de/wp-content/uploads/2022/02/Lyriks_subbotnik_FWT_Foto_Franziska-Goetzen-Ag7n23.tmp_.jpg
END:VEVENT
BEGIN:VEVENT
DTSTART;TZID=Europe/Berlin:20220312T190000
DTEND;TZID=Europe/Berlin:20220312T203000
DTSTAMP:20260421T020038
CREATED:20220209T230326Z
LAST-MODIFIED:20220312T142441Z
UID:17705-1647111600-1647117000@literaturszene-koeln.de
SUMMARY:LYRIKS – Koproduktion subbotnik mit dem Theater a. d. Ruhr Mülheim\, dem FFT Düsseldorf und dem FWT
DESCRIPTION:Ein Teil von uns ist in Brasilien\, oder an der Schwarzmeerküste im Nebel. Ein anderer ist immer und überall. Zwei sind irgendwo auf der Autobahn im Regen. Nach Italien fährt Niemand. Einer ist aus der Zeit gefallen\, will unbedingt fort. Die aus dem Auto ist schon längst woanders.\nEin Langhaariger redet ununterbrochen\, obwohl er eigentlich gar nix muss. Einer verläuft sich im Wald. Jemand ist Baum. Wörter erklingen einzeln\, gleichzeitig\, werden sichtbar\, lassen das Zeitgefühl verschwimmen. Und am Sonntag steht alles still\, hinter dem Fenster Regen.\nWir trinken schwarzen Kaffee und machen Musik auf Keyboards und Schreibmaschinen\, lassen Welten entstehen und lauschen ihrem Nachklang. Und die Kaffeemaschine murrt unausgeschlafen mit kratzigem Hals.\nSubbotnik und das Ensemble des Theater an der Ruhr entdecken das Universum der Poesie: eine Reise durch Zeit und Raum\, ein Wortkonzert\, ein lyrisches Album voller lauter und leiser Bilder.\n\n\nGefördert durch das Ministerium für Kultur und Wissenschaft des Landes NRW und das Kulturamt der Stadt Köln. \nMusik\, Percussion und Performance Berit Vander\, Leonhard Hugger\, Steffen Reuber\, Jacqueline Ferreira Dourado\, Kornelius Heidebrecht\, Oleg Zhukov\, Martin Kloepfer | Regie\, Dramaturgie\, Musik\, Raum und Licht Kollektiv subbotnik | Dramaturgie und Produktionsleitung Nora Vollmond | Licht Fritz Dumcius | Kostüm Heinke Stork  \n\n\nSpieltermine: 9. (Köln-Premiere)\, 11.\, 12. März\, jeweils 19:00 Uhr; 10. März\, 11:00 Uhr; 13. März\, 18:00 Uhr  \n\n\nFoto: © Franziska Götzen
URL:https://literaturszene-koeln.de/termin/lyriks-koproduktion-subbotnik-mit-dem-theater-a-d-ruhr-muelheim-dem-fft-duesseldorf-und-dem-fwt-4/
LOCATION:Freies Werkstatt Theater Köln\, Zugweg 10\, Köln\, 50677\, Deutschland
CATEGORIES:Literaturtheater
ATTACH;FMTTYPE=image/jpeg:https://literaturszene-koeln.de/wp-content/uploads/2022/02/Lyriks_subbotnik_FWT_Foto_Franziska-Goetzen-Ag7n23.tmp_.jpg
END:VEVENT
BEGIN:VEVENT
DTSTART;TZID=Europe/Berlin:20220311T190000
DTEND;TZID=Europe/Berlin:20220311T203000
DTSTAMP:20260421T020038
CREATED:20220209T230313Z
LAST-MODIFIED:20220311T141709Z
UID:17704-1647025200-1647030600@literaturszene-koeln.de
SUMMARY:LYRIKS – Koproduktion subbotnik mit dem Theater a. d. Ruhr Mülheim\, dem FFT Düsseldorf und dem FWT
DESCRIPTION:Ein Teil von uns ist in Brasilien\, oder an der Schwarzmeerküste im Nebel. Ein anderer ist immer und überall. Zwei sind irgendwo auf der Autobahn im Regen. Nach Italien fährt Niemand. Einer ist aus der Zeit gefallen\, will unbedingt fort. Die aus dem Auto ist schon längst woanders.\nEin Langhaariger redet ununterbrochen\, obwohl er eigentlich gar nix muss. Einer verläuft sich im Wald. Jemand ist Baum. Wörter erklingen einzeln\, gleichzeitig\, werden sichtbar\, lassen das Zeitgefühl verschwimmen. Und am Sonntag steht alles still\, hinter dem Fenster Regen.\nWir trinken schwarzen Kaffee und machen Musik auf Keyboards und Schreibmaschinen\, lassen Welten entstehen und lauschen ihrem Nachklang. Und die Kaffeemaschine murrt unausgeschlafen mit kratzigem Hals.\nSubbotnik und das Ensemble des Theater an der Ruhr entdecken das Universum der Poesie: eine Reise durch Zeit und Raum\, ein Wortkonzert\, ein lyrisches Album voller lauter und leiser Bilder.\n\n\nGefördert durch das Ministerium für Kultur und Wissenschaft des Landes NRW und das Kulturamt der Stadt Köln. \nMusik\, Percussion und Performance Berit Vander\, Leonhard Hugger\, Steffen Reuber\, Jacqueline Ferreira Dourado\, Kornelius Heidebrecht\, Oleg Zhukov\, Martin Kloepfer | Regie\, Dramaturgie\, Musik\, Raum und Licht Kollektiv subbotnik | Dramaturgie und Produktionsleitung Nora Vollmond | Licht Fritz Dumcius | Kostüm Heinke Stork  \n\n\nSpieltermine: 9. (Köln-Premiere)\, 11.\, 12. März\, jeweils 19:00 Uhr; 10. März\, 11:00 Uhr; 13. März\, 18:00 Uhr  \n\n\nFoto: © Franziska Götzen
URL:https://literaturszene-koeln.de/termin/lyriks-koproduktion-subbotnik-mit-dem-theater-a-d-ruhr-muelheim-dem-fft-duesseldorf-und-dem-fwt-3/
LOCATION:Freies Werkstatt Theater Köln\, Zugweg 10\, Köln\, 50677\, Deutschland
CATEGORIES:Literaturtheater
ATTACH;FMTTYPE=image/jpeg:https://literaturszene-koeln.de/wp-content/uploads/2022/02/Lyriks_subbotnik_FWT_Foto_Franziska-Goetzen-Ag7n23.tmp_.jpg
END:VEVENT
BEGIN:VEVENT
DTSTART;TZID=Europe/Berlin:20220310T110000
DTEND;TZID=Europe/Berlin:20220310T123000
DTSTAMP:20260421T020038
CREATED:20220209T230311Z
LAST-MODIFIED:20220310T141720Z
UID:17702-1646910000-1646915400@literaturszene-koeln.de
SUMMARY:LYRIKS – Koproduktion subbotnik mit dem Theater a. d. Ruhr Mülheim\, dem FFT Düsseldorf und dem FWT
DESCRIPTION:Ein Teil von uns ist in Brasilien\, oder an der Schwarzmeerküste im Nebel. Ein anderer ist immer und überall. Zwei sind irgendwo auf der Autobahn im Regen. Nach Italien fährt Niemand. Einer ist aus der Zeit gefallen\, will unbedingt fort. Die aus dem Auto ist schon längst woanders.\nEin Langhaariger redet ununterbrochen\, obwohl er eigentlich gar nix muss. Einer verläuft sich im Wald. Jemand ist Baum. Wörter erklingen einzeln\, gleichzeitig\, werden sichtbar\, lassen das Zeitgefühl verschwimmen. Und am Sonntag steht alles still\, hinter dem Fenster Regen.\nWir trinken schwarzen Kaffee und machen Musik auf Keyboards und Schreibmaschinen\, lassen Welten entstehen und lauschen ihrem Nachklang. Und die Kaffeemaschine murrt unausgeschlafen mit kratzigem Hals.\nSubbotnik und das Ensemble des Theater an der Ruhr entdecken das Universum der Poesie: eine Reise durch Zeit und Raum\, ein Wortkonzert\, ein lyrisches Album voller lauter und leiser Bilder.\n\n\nGefördert durch das Ministerium für Kultur und Wissenschaft des Landes NRW und das Kulturamt der Stadt Köln. \nMusik\, Percussion und Performance Berit Vander\, Leonhard Hugger\, Steffen Reuber\, Jacqueline Ferreira Dourado\, Kornelius Heidebrecht\, Oleg Zhukov\, Martin Kloepfer | Regie\, Dramaturgie\, Musik\, Raum und Licht Kollektiv subbotnik | Dramaturgie und Produktionsleitung Nora Vollmond | Licht Fritz Dumcius | Kostüm Heinke Stork  \n\n\nSpieltermine: 9. (Köln-Premiere)\, 11.\, 12. März\, jeweils 19:00 Uhr; 10. März\, 11:00 Uhr; 13. März\, 18:00 Uhr  \n\n\nFoto: © Franziska Götzen
URL:https://literaturszene-koeln.de/termin/lyriks-koproduktion-subbotnik-mit-dem-theater-a-d-ruhr-muelheim-dem-fft-duesseldorf-und-dem-fwt-2/
LOCATION:Freies Werkstatt Theater Köln\, Zugweg 10\, Köln\, 50677\, Deutschland
CATEGORIES:Literaturtheater
ATTACH;FMTTYPE=image/jpeg:https://literaturszene-koeln.de/wp-content/uploads/2022/02/Lyriks_subbotnik_FWT_Foto_Franziska-Goetzen-Ag7n23.tmp_.jpg
END:VEVENT
BEGIN:VEVENT
DTSTART;TZID=Europe/Berlin:20220309T190000
DTEND;TZID=Europe/Berlin:20220309T203000
DTSTAMP:20260421T020038
CREATED:20220209T230306Z
LAST-MODIFIED:20220308T235030Z
UID:17700-1646852400-1646857800@literaturszene-koeln.de
SUMMARY:LYRIKS – Koproduktion subbotnik mit dem Theater a. d. Ruhr Mülheim\, dem FFT Düsseldorf und dem FWT
DESCRIPTION:Ein Teil von uns ist in Brasilien\, oder an der Schwarzmeerküste im Nebel. Ein anderer ist immer und überall. Zwei sind irgendwo auf der Autobahn im Regen. Nach Italien fährt Niemand. Einer ist aus der Zeit gefallen\, will unbedingt fort. Die aus dem Auto ist schon längst woanders.\nEin Langhaariger redet ununterbrochen\, obwohl er eigentlich gar nix muss. Einer verläuft sich im Wald. Jemand ist Baum. Wörter erklingen einzeln\, gleichzeitig\, werden sichtbar\, lassen das Zeitgefühl verschwimmen. Und am Sonntag steht alles still\, hinter dem Fenster Regen.\nWir trinken schwarzen Kaffee und machen Musik auf Keyboards und Schreibmaschinen\, lassen Welten entstehen und lauschen ihrem Nachklang. Und die Kaffeemaschine murrt unausgeschlafen mit kratzigem Hals.\nSubbotnik und das Ensemble des Theater an der Ruhr entdecken das Universum der Poesie: eine Reise durch Zeit und Raum\, ein Wortkonzert\, ein lyrisches Album voller lauter und leiser Bilder.\n\nGefördert durch das Ministerium für Kultur und Wissenschaft des Landes NRW und das Kulturamt der Stadt Köln. \nMusik\, Percussion und Performance Berit Vander\, Leonhard Hugger\, Steffen Reuber\, Jacqueline Ferreira Dourado\, Kornelius Heidebrecht\, Oleg Zhukov\, Martin Kloepfer | Regie\, Dramaturgie\, Musik\, Raum und Licht Kollektiv subbotnik | Dramaturgie und Produktionsleitung Nora Vollmond | Licht Fritz Dumcius | Kostüm Heinke Stork \n\nSpieltermine: 9. (Köln-Premiere)\, 11.\, 12. März\, jeweils 19:00 Uhr; 10. März\, 11:00 Uhr; 13. März\, 18:00 Uhr  \n\n\nFoto: © Franziska Götzen
URL:https://literaturszene-koeln.de/termin/lyriks-koproduktion-subbotnik-mit-dem-theater-a-d-ruhr-muelheim-dem-fft-duesseldorf-und-dem-fwt/
LOCATION:Freies Werkstatt Theater Köln\, Zugweg 10\, Köln\, 50677\, Deutschland
CATEGORIES:Literaturtheater
ATTACH;FMTTYPE=image/jpeg:https://literaturszene-koeln.de/wp-content/uploads/2022/02/Lyriks_subbotnik_FWT_Foto_Franziska-Goetzen-Ag7n23.tmp_.jpg
END:VEVENT
BEGIN:VEVENT
DTSTART;TZID=Europe/Berlin:20220206T170000
DTEND;TZID=Europe/Berlin:20220206T210000
DTSTAMP:20260421T020038
CREATED:20220119T222344Z
LAST-MODIFIED:20220206T224937Z
UID:17628-1644166800-1644181200@literaturszene-koeln.de
SUMMARY:AUF-BRÜCHE. Ein Theater-Trip
DESCRIPTION:KAFKA. LENZ. BACHMANN. Das movigtheatre.de zeigt alle drei Stücke seiner Trilogie AUF-BRÜCHE an EINEM Theaterabend als Gesamterlebnis auf beiden Bühnen und in allen Winkeln des FWT: \n  \n\n\n\nMutiges Aufbegehren\, revolutionäre Werke und ein tragisches Ende – die Trilogie AUF-BRÜCHE ist eine Reise durch die Jahrhunderte auf den Spuren von Jakob Michael Reinhold Lenz\, Franz Kafka und Ingeborg Bachmann. Erstmals als Gesamterlebnis auf beiden Bühnen und in allen Winkeln des Freien Werkstatt Theaters! \nLenz\, Kafka\, Bachmann: Drei junge Menschen\, die aufbegehren gegen Konvention\, Autorität und Determinismus. Die Zuflucht finden in der Literatur\, im Schreiben. Sie reißen Mauern des Traditionellen ein und öffnen die Tür zu einer Welt persönlicher Freiheit und Autonomie. Sie prägen den Stil ihrer jeweiligen Epoche\, nehmen Einfluss weit über ihren Lebensradius hinaus: Lenz auf die Dramatik der Stürmer und Dränger\, Kafka beim Aufbruch in die Moderne. Ingeborg Bachmann prägt die Intensität der Nachkriegslyrik. \nAUF-BRÜCHE ist das Ergebnis einer intensiven Recherche aller Gesamtwerke der drei Autor:innen. Autor Thomas Hupfer bezieht Brief- und Tagebuchmaterial genauso ein wie Biografien. Als Erstes geht es um die  persönlichen Schicksale. Doch dabei erscheinen aussagekräftige Schlaglichter auf die Geschichte des 18.\, 19. und 20. Jahrhunderts\, Bezüge zu brennenden Fragen auch unserer Zeit. Eine Einladung dazu\, Aufbrüche zu wagen. \nEine Koproduktion des movingtheatre.de mit den Kreuzgangspiele Feuchtwangen und dem FWT:\nGefördert vom Kulturamt der Stadt Köln.
URL:https://literaturszene-koeln.de/termin/auf-brueche-ein-theater-trip-2/
LOCATION:Freies Werkstatt Theater Köln\, Zugweg 10\, Köln\, 50677\, Deutschland
CATEGORIES:Literaturtheater
END:VEVENT
BEGIN:VEVENT
DTSTART;TZID=Europe/Berlin:20220205T180000
DTEND;TZID=Europe/Berlin:20220205T220000
DTSTAMP:20260421T020038
CREATED:20220119T222343Z
LAST-MODIFIED:20220205T225446Z
UID:17627-1644084000-1644098400@literaturszene-koeln.de
SUMMARY:AUF-BRÜCHE. Ein Theater-Trip
DESCRIPTION:KAFKA. LENZ. BACHMANN. Das movigtheatre.de zeigt alle drei Stücke seiner Trilogie AUF-BRÜCHE an EINEM Theaterabend als Gesamterlebnis auf beiden Bühnen und in allen Winkeln des FWT: \n  \n\n\n\nMutiges Aufbegehren\, revolutionäre Werke und ein tragisches Ende – die Trilogie AUF-BRÜCHE ist eine Reise durch die Jahrhunderte auf den Spuren von Jakob Michael Reinhold Lenz\, Franz Kafka und Ingeborg Bachmann. Erstmals als Gesamterlebnis auf beiden Bühnen und in allen Winkeln des Freien Werkstatt Theaters! \nLenz\, Kafka\, Bachmann: Drei junge Menschen\, die aufbegehren gegen Konvention\, Autorität und Determinismus. Die Zuflucht finden in der Literatur\, im Schreiben. Sie reißen Mauern des Traditionellen ein und öffnen die Tür zu einer Welt persönlicher Freiheit und Autonomie. Sie prägen den Stil ihrer jeweiligen Epoche\, nehmen Einfluss weit über ihren Lebensradius hinaus: Lenz auf die Dramatik der Stürmer und Dränger\, Kafka beim Aufbruch in die Moderne. Ingeborg Bachmann prägt die Intensität der Nachkriegslyrik. \nAUF-BRÜCHE ist das Ergebnis einer intensiven Recherche aller Gesamtwerke der drei Autor:innen. Autor Thomas Hupfer bezieht Brief- und Tagebuchmaterial genauso ein wie Biografien. Als Erstes geht es um die  persönlichen Schicksale. Doch dabei erscheinen aussagekräftige Schlaglichter auf die Geschichte des 18.\, 19. und 20. Jahrhunderts\, Bezüge zu brennenden Fragen auch unserer Zeit. Eine Einladung dazu\, Aufbrüche zu wagen. \nEine Koproduktion des movingtheatre.de mit den Kreuzgangspiele Feuchtwangen und dem FWT:\nGefördert vom Kulturamt der Stadt Köln.
URL:https://literaturszene-koeln.de/termin/auf-brueche-ein-theater-trip/
LOCATION:Freies Werkstatt Theater Köln\, Zugweg 10\, Köln\, 50677\, Deutschland
CATEGORIES:Literaturtheater
END:VEVENT
BEGIN:VEVENT
DTSTART;TZID=Europe/Berlin:20211218T200000
DTEND;TZID=Europe/Berlin:20211218T213000
DTSTAMP:20260421T020038
CREATED:20211110T193252Z
LAST-MODIFIED:20211218T210232Z
UID:17412-1639857600-1639863000@literaturszene-koeln.de
SUMMARY:WerkSTADT-LESUNG: WORAUF WARTEN?
DESCRIPTION:Unter dem Schlagwort WerkSTADT öffnet sich das Freie Werkstatt Theater für die Menschen der Stadt. Noch mehr als bisher wollen wir\, dass Köln auf uns wirkt und wir auf Köln. Zum Thema “WORAUF WARTEN?” suchen wir Texte\, Gedichte\, Dialoge\, Manifeste\, Tagebucheinträge – die Form ist egal. Wir wollen hören\, was Ihr zu sagen habt! Alle sind herzlich eingeladen\, ihre Texte bis zum 06.12. an info@fwt-koeln.de zu schicken.\nAm 18.12. werden die Texte dann auf der Bühne des Freien Werkstatt Theaters zu hören sein\, vorgetragen von der Schauspielerin Fiona Metscher oder den Autor:innen selbst. \n  \nTermin: 18. Dezember\, 20:00 Uhr\nEintritt: 15 Euro / ermäßigt 10 Euro
URL:https://literaturszene-koeln.de/termin/werkstadt-lesung-worauf-warten/
LOCATION:Freies Werkstatt Theater Köln\, Zugweg 10\, Köln\, 50677\, Deutschland
ATTACH;FMTTYPE=image/jpeg:https://literaturszene-koeln.de/wp-content/uploads/2021/11/Worauf_Warten_Notiz-ujPbAr.tmp_.jpg
END:VEVENT
BEGIN:VEVENT
DTSTART;TZID=Europe/Berlin:20211109T200000
DTEND;TZID=Europe/Berlin:20211109T213000
DTSTAMP:20260421T020038
CREATED:20211103T193313Z
LAST-MODIFIED:20211109T193256Z
UID:17362-1636488000-1636493400@literaturszene-koeln.de
SUMMARY:Lesung mit Alice Hasters
DESCRIPTION:Alice Hasters liest aus ihrem Buch “Was weiße Menschen nicht über Rassismus hören wollen\, aber wissen sollten” \nWer Rassismus bekämpfen will\, muss Veränderung befürworten – und die fängt bei einem selbst an. Sich den eigenen Rassismus vor Augen zu halten\, ist schmerzhaft\, aber der einzige Weg\, ihn zu überwinden. Die Journalistin Alice Hasters beschreibt eindringlich\, wie Rassismen ihren Alltag als Schwarze Frau in Deutschland prägen. Dabei wird klar: Rassistisches Denken und Handeln hat seinen Platz nicht nur am rechten Rand unserer Gesellschaft. \nVerlag hanserblau\, Carl Hanser Verlag\, Berlin  \nTermin: 9. November 2021\, 20:00 Uhr im Freien Werkstatt Theater Köln\, Zugweg 10\, 50677 Köln \nKartenbuchung unter www.offticket.de\, karten@fwt-koeln.de oder Tel. 0221-327817 \nFoto: (c) H. Henkensiefken\, www.pixxwerk.de
URL:https://literaturszene-koeln.de/termin/lesung-mit-alice-hasters/
LOCATION:Freies Werkstatt Theater Köln\, Zugweg 10\, Köln\, 50677\, Deutschland
CATEGORIES:Gespräche,Lesung
ATTACH;FMTTYPE=image/jpeg:https://literaturszene-koeln.de/wp-content/uploads/2021/11/Alice-Hasters_hf1_c-H.-Henkensiefken-www.pixxwerk.de_-b0Xy9O.tmp_.jpg
END:VEVENT
END:VCALENDAR