BEGIN:VCALENDAR
VERSION:2.0
PRODID:-//Literaturszene Köln e.V. - ECPv6.15.20//NONSGML v1.0//EN
CALSCALE:GREGORIAN
METHOD:PUBLISH
X-WR-CALNAME:Literaturszene Köln e.V.
X-ORIGINAL-URL:https://literaturszene-koeln.de
X-WR-CALDESC:Veranstaltungen für Literaturszene Köln e.V.
REFRESH-INTERVAL;VALUE=DURATION:PT1H
X-Robots-Tag:noindex
X-PUBLISHED-TTL:PT1H
BEGIN:VTIMEZONE
TZID:Europe/Berlin
BEGIN:DAYLIGHT
TZOFFSETFROM:+0100
TZOFFSETTO:+0200
TZNAME:CEST
DTSTART:20210328T010000
END:DAYLIGHT
BEGIN:STANDARD
TZOFFSETFROM:+0200
TZOFFSETTO:+0100
TZNAME:CET
DTSTART:20211031T010000
END:STANDARD
BEGIN:DAYLIGHT
TZOFFSETFROM:+0100
TZOFFSETTO:+0200
TZNAME:CEST
DTSTART:20220327T010000
END:DAYLIGHT
BEGIN:STANDARD
TZOFFSETFROM:+0200
TZOFFSETTO:+0100
TZNAME:CET
DTSTART:20221030T010000
END:STANDARD
BEGIN:DAYLIGHT
TZOFFSETFROM:+0100
TZOFFSETTO:+0200
TZNAME:CEST
DTSTART:20230326T010000
END:DAYLIGHT
BEGIN:STANDARD
TZOFFSETFROM:+0200
TZOFFSETTO:+0100
TZNAME:CET
DTSTART:20231029T010000
END:STANDARD
END:VTIMEZONE
BEGIN:VEVENT
DTSTART;TZID=Europe/Berlin:20221117T200000
DTEND;TZID=Europe/Berlin:20221117T213000
DTSTAMP:20260421T152701
CREATED:20221110T214718Z
LAST-MODIFIED:20221113T215055Z
UID:19141-1668715200-1668720600@literaturszene-koeln.de
SUMMARY:Wolfgang Schiffer liest aus seinem neuen Gedichtband “Dass die Erden einen Buckel Werfe”
DESCRIPTION:Veranstaltet wird die Lesung im Rahmen der HOTLIST Lesetour 2022\, die durch die Förderung vom Deutschen Literaturfond und von Neustart Kultur ermöglicht wird.  Die HOTLIST zeichnet alljährlich zehn herausragende Bücher aus unabhängigen Verlagen im deutschsprachigen Raum aus. Alles zur Hotlist über https://www.hotlist-online.com/ \nFoto: (c) privat
URL:https://literaturszene-koeln.de/termin/wolfgang-schiffer-liest-aus-seinem-neuen-gedichtband-dass-die-erden-einen-buckel-werfe/
LOCATION:Bücherwelt\, Venloer Straße 263\, Köln\, 50823\, Deutschland
CATEGORIES:Lesung
ATTACH;FMTTYPE=image/jpeg:https://literaturszene-koeln.de/wp-content/uploads/2022/11/Wolfgang-Schiffer.Foto-privat-scaled-pf75MR.tmp_.jpg
ORGANIZER;CN="B%C3%BCcherwelt":MAILTO:buecherwelt-ehrenfeld@gmx.de
END:VEVENT
BEGIN:VEVENT
DTSTART;TZID=Europe/Berlin:20221027T200000
DTEND;TZID=Europe/Berlin:20221027T213000
DTSTAMP:20260421T152701
CREATED:20220821T172921Z
LAST-MODIFIED:20221027T190208Z
UID:18613-1666900800-1666906200@literaturszene-koeln.de
SUMMARY:Jasna Mittler: Blauauge
DESCRIPTION:Die Kölner Autorin liest aus ihrem neuesten Roman Blauauge\, einer Jahrhunderte überspannenden Geschichte von Liebe\, Verrat und Habgier. \nEine Veranstaltungen im Rahmen des Sonderprogramms AUFGESCHLAGEN!
URL:https://literaturszene-koeln.de/termin/jasna-mittler-blauauge/
LOCATION:Bücherwelt\, Venloer Straße 263\, Köln\, 50823\, Deutschland
CATEGORIES:Lesung
ATTACH;FMTTYPE=image/jpeg:https://literaturszene-koeln.de/wp-content/uploads/2022/08/mittler-cBqt8C.tmp_.jpg
ORGANIZER;CN="B%C3%BCcherwelt":MAILTO:buecherwelt-ehrenfeld@gmx.de
END:VEVENT
BEGIN:VEVENT
DTSTART;TZID=Europe/Berlin:20220917T170000
DTEND;TZID=Europe/Berlin:20220917T183000
DTSTAMP:20260421T152701
CREATED:20220821T172822Z
LAST-MODIFIED:20220917T180205Z
UID:18611-1663434000-1663439400@literaturszene-koeln.de
SUMMARY:Andrea Karimé: Planetenspatzen. Eine Lesung zum Mitmachen\, Mitklingen\, Lauschen und Mitdichten
DESCRIPTION:Die Kölner Kinderbuchautorin stellt ihr Buch Planetenspatzen vor. Vergnügliche interkulturelle Sprachspielereien mit Wörtern aus vielen Sprachen\, die bei uns zu Hause sind. Für Kinder ab 4 Jahren. \nEine Veranstaltungen im Rahmen des Sonderprogramms AUFGESCHLAGEN!
URL:https://literaturszene-koeln.de/termin/andrea-karime-planetenspatzen-eine-lesung-zum-mitmachen-mitklingen-lauschen-und-mitdichten/
LOCATION:Bücherwelt\, Venloer Straße 263\, Köln\, 50823\, Deutschland
CATEGORIES:Buchpräsentation,Lesung
ATTACH;FMTTYPE=image/jpeg:https://literaturszene-koeln.de/wp-content/uploads/2022/08/karime-Ue2tff.tmp_.jpg
ORGANIZER;CN="B%C3%BCcherwelt":MAILTO:buecherwelt-ehrenfeld@gmx.de
END:VEVENT
BEGIN:VEVENT
DTSTART;TZID=Europe/Berlin:20220915T200000
DTEND;TZID=Europe/Berlin:20220915T213000
DTSTAMP:20260421T152701
CREATED:20220821T172745Z
LAST-MODIFIED:20220915T180207Z
UID:18609-1663272000-1663277400@literaturszene-koeln.de
SUMMARY:Lesung mit Dinçer Güçyeter
DESCRIPTION:Der Lyriker und Verleger des Elif Verlags liest aus seinem jüngsten Gedichtband Mein Prinz\, ich bin das Ghetto\, für den er in diesem Jahr verdient mit dem Peter-Huchel-Preis geehrt wurde. \nEine Veranstaltungen im Rahmen des Sonderprogramms AUFGESCHLAGEN!
URL:https://literaturszene-koeln.de/termin/lesung-mit-dincer-guecyeter/
LOCATION:Bücherwelt\, Venloer Straße 263\, Köln\, 50823\, Deutschland
CATEGORIES:Lesung
ATTACH;FMTTYPE=image/jpeg:https://literaturszene-koeln.de/wp-content/uploads/2022/08/guecyeter-vaoqtN.tmp_.jpg
ORGANIZER;CN="B%C3%BCcherwelt":MAILTO:buecherwelt-ehrenfeld@gmx.de
END:VEVENT
BEGIN:VEVENT
DTSTART;TZID=Europe/Berlin:20220825T200000
DTEND;TZID=Europe/Berlin:20220825T213000
DTSTAMP:20260421T152701
CREATED:20220818T171831Z
LAST-MODIFIED:20220825T171704Z
UID:18595-1661457600-1661463000@literaturszene-koeln.de
SUMMARY:Lesung mit Stefan Winges
DESCRIPTION:Der Autor des erfolgreichen Krimis Ehrenfeld-Blues wird uns mit älteren und neueren Kriminalromanen aus seiner Werkstatt überraschen. \nEine Veranstaltungen im Rahmen des Sonderprogramms AUFGESCHLAGEN! \n 
URL:https://literaturszene-koeln.de/termin/lesung-mit-stefan-winges/
LOCATION:Bücherwelt\, Venloer Straße 263\, Köln\, 50823\, Deutschland
CATEGORIES:Lesung
ATTACH;FMTTYPE=image/jpeg:https://literaturszene-koeln.de/wp-content/uploads/2022/08/winges-nEWeWa.tmp_.jpg
ORGANIZER;CN="B%C3%BCcherwelt":MAILTO:buecherwelt-ehrenfeld@gmx.de
END:VEVENT
BEGIN:VEVENT
DTSTART;TZID=Europe/Berlin:20220512T200000
DTEND;TZID=Europe/Berlin:20220512T220000
DTSTAMP:20260421T152701
CREATED:20220412T153942Z
LAST-MODIFIED:20220511T180249Z
UID:17967-1652385600-1652392800@literaturszene-koeln.de
SUMMARY:Ich bin kein Ausländer\, ich heiße nur so
DESCRIPTION:Amir Shaheen schildert pointiert und geistreich\, was allein sein Name bei seinen biodeutschen Mitmenschen in diesem Lande auszulösen vermag. Zugleich lädt er dazu ein\, weit verbreitetes Schubladendenken und vermeintliche Selbstverständlichkeiten noch einmal kritisch in den Blick zu nehmen\, Erwartungshaltungen und Vorurteile zu überprüfen\, sich bewusst zu werden über vielfach bloß Gutgemeintes und auch über die allgegenwärtige Schere im Kopf. So ist diese Lesung Aufklärung und Appell an unsere Liberalität mit höchst unterhaltsamen und überaus amüsanten Geschichten voll witziger Missverständnisse und unfreiwilliger Situationskomik.
URL:https://literaturszene-koeln.de/termin/ich-bin-kein-auslaender-ich-heisse-nur-so/
LOCATION:Bücherwelt\, Venloer Straße 263\, Köln\, 50823\, Deutschland
ATTACH;FMTTYPE=image/jpeg:https://literaturszene-koeln.de/wp-content/uploads/2022/04/Cover_Shaheen_Auslaender_Netz-ejUDwy.tmp_.jpg
ORGANIZER;CN="B%C3%BCcherwelt":MAILTO:buecherwelt-ehrenfeld@gmx.de
END:VEVENT
END:VCALENDAR