BEGIN:VCALENDAR
VERSION:2.0
PRODID:-//Literaturszene Köln e.V. - ECPv6.15.20//NONSGML v1.0//EN
CALSCALE:GREGORIAN
METHOD:PUBLISH
X-ORIGINAL-URL:https://literaturszene-koeln.de
X-WR-CALDESC:Veranstaltungen für Literaturszene Köln e.V.
REFRESH-INTERVAL;VALUE=DURATION:PT1H
X-Robots-Tag:noindex
X-PUBLISHED-TTL:PT1H
BEGIN:VTIMEZONE
TZID:Europe/Berlin
BEGIN:DAYLIGHT
TZOFFSETFROM:+0100
TZOFFSETTO:+0200
TZNAME:CEST
DTSTART:20250330T010000
END:DAYLIGHT
BEGIN:STANDARD
TZOFFSETFROM:+0200
TZOFFSETTO:+0100
TZNAME:CET
DTSTART:20251026T010000
END:STANDARD
BEGIN:DAYLIGHT
TZOFFSETFROM:+0100
TZOFFSETTO:+0200
TZNAME:CEST
DTSTART:20260329T010000
END:DAYLIGHT
BEGIN:STANDARD
TZOFFSETFROM:+0200
TZOFFSETTO:+0100
TZNAME:CET
DTSTART:20261025T010000
END:STANDARD
BEGIN:DAYLIGHT
TZOFFSETFROM:+0100
TZOFFSETTO:+0200
TZNAME:CEST
DTSTART:20270328T010000
END:DAYLIGHT
BEGIN:STANDARD
TZOFFSETFROM:+0200
TZOFFSETTO:+0100
TZNAME:CET
DTSTART:20271031T010000
END:STANDARD
END:VTIMEZONE
BEGIN:VEVENT
DTSTART;TZID=Europe/Berlin:20260529T190000
DTEND;TZID=Europe/Berlin:20260529T203000
DTSTAMP:20260420T192758
CREATED:20260409T111822Z
LAST-MODIFIED:20260409T111822Z
UID:29693-1780081200-1780086600@literaturszene-koeln.de
SUMMARY:Musa Deli: Unsichtbare Mauern
DESCRIPTION:Moderation: Michael Schikowski \nMusa Deli beschäftigt sich seit Jahrzehnten mit dem Paradigma der Integration. Trotz zahlreicher Programme\, Konzepte und politischer Bekenntnisse scheitert sie allzu oft. Deli zeigt\, dass viele dieser Bemühungen nur an der Oberfläche wirken – als Versprechen\, die unsere Strukturen\, Institutionen und Denkweisen\, unser Selbst- und Weltbild also\, kaum erreichen. \nWas Integration blockiert\, sind nicht nur fehlende Maßnahmen\, sondern unausgesprochene Erwartungen\, stille Normen und tief verankerte Bilder von Zugehörigkeit. „Die Mauern\, die uns trennen\, stehen nicht zwischen Kulturen – sie stehen in den Köpfen derer\, die glauben\, sie hätten keine.“ \nIm Mittelpunkt seiner Arbeit stehen jene unsichtbaren Mauern\, die Teilhabe erschweren: unbewusste Haltungen\, vertraute Muster der Ungleichheit und Bilder von Normalität\, die häufig unausgesprochen bleiben. Sie formen unser gesellschaftliches Zusammenleben stärker\, als es uns bewusst ist. Deli zeigt\, dass Integration nicht nur an Migranten scheitert\, sondern auch an einer Dominanzgesellschaft\, die Vielfalt nur akzeptiert\, wenn sie möglichst unsichtbar bleibt. Diese Mauern wirken nicht laut\, sondern leise – in Klassenzimmern\, Ämtern\, Betrieben und Alltagsbegegnungen. Gerade weil sie unsichtbar sind\, prägen sie Biografien\, Selbstwert und Chancen über Generationen. \nAuch das Stadtbild\, so Deli\, ist nicht einfach eine Kulisse\, sondern Ausdruck dessen\, wer sichtbar wird und wer unsichtbar bleibt. Gesellschaft ist kein festes Bild\, sondern ein Prozess. Was in Biografien\, Wirtschaft und Politik selbstverständlich ist – Entwicklung –\, muss auch für das gesellschaftliche Miteinander gelten. Doch viele erleben Veränderung als Verlust\, und genau dort entstehen jene unsichtbaren Mauern\, die Deli beschreibt. \nDeli macht sichtbar\, wie sich Zugehörigkeit und Abgrenzung im Stadtbild spiegeln – und wie sehr sie unsere innere Haltung prägen. Er zeigt\, dass der Mythos „gelungene Integration“ zusammenbricht\, sobald knappe Ressourcen wie Macht\, Wohnraum oder Chancen ins Spiel kommen. \nAls Sozialpsychologe und Leiter des Gesundheitszentrums für Migrantinnen und Migranten in Köln ist Musa Deli seit Jahren teilnehmender Beobachter einer Gesellschaft\, die sich zwischen dem Wunsch nach Stabilität und der Realität des Wandels bewegt. Er lädt dazu ein\, gemeinsam über unser Stadtbild\, unser Selbstbild und unser Weltbild zu reflektieren – und darüber\, wie Integration gelingen kann\, wenn wir das Unsichtbare sichtbar machen. \nSein Blick verbindet persönliche Erfahrung\, psychologische Analyse und gesellschaftliche Realität – und zeigt\, warum Integration keine Frage von Anpassung\, sondern von gleichberechtigter Teilhabe ist. Deli warnt: Jede Wahlkampfrhetorik beschädigt Zugehörigkeit nachhaltiger\, als Maßnahmen sie heilen könnten. \nMusa Deli ist Sozialpsychologe und Leiter des Gesundheitszentrums für Migrantinnen und Migranten in Köln. Er veröffentlichte zahlreiche Beiträge zu Migration\, Integration und gesellschaftlichem Wandel. 2022 erschien sein Buch Zusammenwachsen. Die Herausforderungen der Integration\, 2023 folgte eine Sonderausgabe bei der Bundeszentrale für politische Bildung. Im April 2026 erscheint sein neues Buch Unsichtbare Mauern: Warum unser Paradigma der Integration scheitert – und Migration Zukunft statt Bedrohung bedeutet im Bonifatius Verlag\, Paderborn.
URL:https://literaturszene-koeln.de/termin/musa-deli-unsichtbare-mauern/
LOCATION:Kalker Buchladen\, Kalker Hauptstraße 170\, Köln\, 51103
CATEGORIES:Gespräche,Lesung
END:VEVENT
BEGIN:VEVENT
DTSTART;TZID=Europe/Berlin:20260530T183000
DTEND;TZID=Europe/Berlin:20260530T213000
DTSTAMP:20260420T192758
CREATED:20260331T082817Z
LAST-MODIFIED:20260331T082817Z
UID:29621-1780165800-1780176600@literaturszene-koeln.de
SUMMARY:Mona Yahia: 4 Tage
DESCRIPTION:Zum Buch: \nAlles beginnt an einem Novembertag 1918. Hayim Smeké – jüdischer Arzt\, Vertrauter und Freund des Walis von Mossul – ist in der Zwickmühle: Die Briten stehen vor den Toren Mossuls und wollen das Osmanische Reich endgültig in die Geschichtsbücher verbannen. Die Freundschaft zum Wali Khalil Bey gebietet ihm\, diesem in die Hauptstadt Istanbul zu folgen. Doch liegt ein unausgesprochener Konflikt zwischen beiden Männern: die Liebe zu der kleinen Serafine. Wie auch immer er sich entscheidet – für die Familie Smeké stellt sich von nun an die Frage\, wo in dieser Welt Platz für sie ist. »Vier Tage« erzählt – anhand jeweils eines Tages – das Leben von vier Generationen einer jüdischen Familie. Sie alle\, Hayim und Ehefrau Nazli\, seine Töchter Rebekka und Serafine\, Rebekkas Sohn Nemir und dessen Tochter Leila\, erleben radikale und einschneidende Veränderungen. Sie alle sind verwoben mit der Erfahrung und den Traumata des Exils\, mit den Fragen nach Identität und innerer Zugehörigkeit. \nEs sind die Frauen in der Familie\, die ihr Leben in die Hand nehmen\, wird Nemir als Erwachsener im Rückblick auf die Familiengeschichte sagen. Und nach Verbindungen und Antworten suchen: warum ihn seine Mutter Rebekka zurückgelassen hat\, als sie 1936 in die noch junge Stadt Tel Aviv auswanderte; warum seine Tochter Leila unbedingt die »erste Uniform in der Familie« tragen wollte und erleben musste\, wie 1973 an Jom Kippur die ägyptische Armee Israel in den Krieg stürzte; warum seine Tante und\, nach Rebekkas Fortgang\, Stiefmutter Serafine ihn und ihre Familie ebenfalls verließ und in Istanbul zu Ende führte\, was vor so langer Zeit in Mossul mit Wali Khalil Bey begann. Und er wird sich fragen\, was die Geschichte seiner Familie ausmacht\, die – wie die fast aller jüdischen Familien der arabischen Welt – die Narben des Exils mit Entwurzelung\, Anpassung und Neuorientierung unauslöschlich in sich trägt. \nKurzbio:\nMona Yahia\, geb. 1954 in Bagdad\, floh mit ihrer Familie 1970 in den Iran und wanderte von dort 1971 nach Israel ein. Nach ihrem Militärdienst studierte sie Psychologie und französische Literatur an der Universität Tel Aviv. In den 1980er- Jahren absolvierte sie ein Studium der Freien Kunst bei Harry Kramer an der Gesamthochschule Kassel und arbeitete im Bereich Konzeptkunst\, bevor sie zum Schreiben kam. Ihr Debütroman Durch Bagdad fließt ein dunkler Strom (im Original: When the Grey Beetles Took over Baghdad)\, erhielt 2001 in London den Jewish Quarterly Wingate Price for Fiction. Daneben veröffentlichte sie Erzählungen und Essays\, u. a. in englischen und deutschen Literaturzeitschriften und Anthologien\, sowie zwei Fotobände über die historische Karawansereien Istanbuls. Mona Yahia schreibt auf Englisch und lebt in Köln.
URL:https://literaturszene-koeln.de/termin/mona-yahia-4-tage-2/
LOCATION:Kalker Buchladen\, Kalker Hauptstraße 170\, Köln\, 51103
CATEGORIES:Autorenlesung,Lesung
ATTACH;FMTTYPE=image/jpeg:https://literaturszene-koeln.de/wp-content/uploads/2026/03/MonaYahia.jpg
ORGANIZER;CN="Kalker Buchladen":MAILTO:info@kalkerbuchladen.de
END:VEVENT
BEGIN:VEVENT
DTSTART;TZID=Europe/Berlin:20260602T190000
DTEND;TZID=Europe/Berlin:20260602T203000
DTSTAMP:20260420T192758
CREATED:20260409T111109Z
LAST-MODIFIED:20260409T111109Z
UID:29685-1780426800-1780432200@literaturszene-koeln.de
SUMMARY:Adrian Kasnitz: Der gelbe Hut von Mister Biller
DESCRIPTION:„An der Garderobe des Cafés am Prenzlauer Berg\, in dem mein Freund Mathieu arbeitet\, hängt der gelbe Hut von Mister Biller. Ich setze ihn mir auf\, als ich meine zwei Cappuccino bezahlt habe\, und spaziere durch den Kiez\, mit einem bösen Lächeln im Gesicht\, als ob ich die Leute auf der Straße provozieren wollte.“ \nZufällige Begegnungen\, die entscheidend sind für eine ganze Weile oder die einfach nur nerven. Reisebekanntschaften und ihre Eigenheiten. Freundschaften\, die auseinandergehen\, und Wiedersehen\, die nicht reibungslos verlaufen. Die neuen Storys von Adrian Kasnitz sind ein fremder Hut\, den man sich aufsetzt\, um sich zu verwandeln und zu provozieren. Sie spielen in Köln und Berlin\, sie führen nach Leipzig und Prag\, sie reißen nach Albanien\, Lettland\, London und Shenzhen aus. Manchmal wünscht man sich\, den fremden Hut nicht genommen zu haben. \nAdrian Kasnitz\, an der Ostsee geboren\, aufgewachsen in den westfälischen Bergen\, Studium in Köln und Prag\, lebt als Schriftsteller\, Herausgeber und Veranstalter in Köln. Neben den bislang neun Teilbänden Kalendarium #1 bis #9 (parasitenpresse 2015-2024) erschienen von ihm zuletzt Im Sommer hatte ich eine Umarmung (parasitenpresse 2023) und Glückliche Niederlagen\, der zweisprachige Prosaband Pierre Huyghe hired me (parasitenpresse 2019) sowie der Roman Bessermann. Für seine literarische Arbeit wurde er u.a. mit dem Dieter-Wellershoff-Stipendium der Stadt Köln ausgezeichnet. Seit 2019 kuratiert er im Team das Europäische Literaturfestival Köln-Kalk (ELK). \nEintritt frei\, Spende willkommen. Wer reservieren möchte\, schreibt bitte kurz an: post@art-of-buna.de
URL:https://literaturszene-koeln.de/termin/adrian-kasnitz-der-gelbe-hut-von-mister-biller-2/
LOCATION:Art of Buna\, Genter Str. 26\, Köln\, 50672\, Deutschland
CATEGORIES:Lesung
ATTACH;FMTTYPE=image/jpeg:https://literaturszene-koeln.de/wp-content/uploads/2026/04/Adrian-Kasnitz.jpeg
END:VEVENT
BEGIN:VEVENT
DTSTART;TZID=Europe/Berlin:20260613T190000
DTEND;TZID=Europe/Berlin:20260613T220000
DTSTAMP:20260420T192758
CREATED:20260331T082912Z
LAST-MODIFIED:20260331T082912Z
UID:29624-1781377200-1781388000@literaturszene-koeln.de
SUMMARY:Son Lewandowski: Die Routinen
DESCRIPTION:Zum Buch: \nEin Gummibärchen essen\, heute den Arm\, morgen ein Bein. Was sich anhört wie ein Witz\, ist Alltag für die Leistungsturnerin Amik. Für sie zählt jedes Gramm\, jeder Wettkampf\, jede Wiederholung. Und jede überschrittene Grenze nimmt Amik dafür hin. »Die Routinen« seziert eine Welt\, von der jeder ahnt\, dass sie hart ist\, aber niemand sieht oder sehen will\, wie ausbeutend ein System ist\, auf dem so viel Glitzer und Glanzspray liegt.\nMünchen. Montreal. Tokio. Wenn die olympischen Spiele anstehen\, blickt die ganze Welt auf eine Stadt\, auf eine Mannschaft\, auf eine Leistungsturnerin. Die Mädchen und Frauen trainieren ihr gesamtes Leben auf diesen Moment hin. Aus diesem Wir der Turnerinnen\, das in olympischen Jahren denkt\, vom Training auf die Waage zu den Wettkämpfen gedrängt wird\, entspringt ein Ich\, die Turnerin Amik. Sie beugt sich den gnadenlosen Wettbewerbsprinzipien ihres Sports und mit jedem weiteren Schritt auf ein Siegerinnenpodest entfernt sie sich mehr von den Mädchen\, die sie gestern noch getröstet haben. Auf kraftvolle Weise erzählt Son Lewandowski von Sport und Politik\, von fragilen Beziehungen und den Grenzen des eigenen\, alternden Körpers. Die Geschichten von berühmten Turnerinnen und der größte Missbrauchsskandal der Sportgeschichte werden in die Geschichte von Amik eingewebt und machen »Die Routinen« zu einer atemlosen Leseerfahrung. \nKurzbio:\nSon Lewandowski lebt als Autorin und Kuratorin in Köln. 2023 wurde sie zum Klagenfurter Literaturkurs und der Autor:innenwerkstatt des LCB eingeladen. Mit Die kurzen Karrieren stand sie im selben Jahr Jahr auf der Shortlist des Edit-Essaypreises. Die Routinen ist ihr Debütroman\, mit dem sie für den lit.Cologne-Debütpreis nominiert ist.
URL:https://literaturszene-koeln.de/termin/son-lewandowski-die-routinen-3/
LOCATION:Kalker Buchladen\, Kalker Hauptstraße 170\, Köln\, 51103
CATEGORIES:Autorenlesung,Lesung
ATTACH;FMTTYPE=image/jpeg:https://literaturszene-koeln.de/wp-content/uploads/2026/03/Son-Lewandowski_Portrait-nah_Max-Goedecke.jpeg
ORGANIZER;CN="Kalker Buchladen":MAILTO:info@kalkerbuchladen.de
END:VEVENT
BEGIN:VEVENT
DTSTART;TZID=Europe/Berlin:20260614T170000
DTEND;TZID=Europe/Berlin:20260614T183000
DTSTAMP:20260420T192758
CREATED:20260410T101901Z
LAST-MODIFIED:20260410T101901Z
UID:29726-1781456400-1781461800@literaturszene-koeln.de
SUMMARY:Hingabe – in Gedichten\, Gesang und Gitarrenspiel
DESCRIPTION:Stimmen auf Deutsch\, Hebräisch und Ladino \nGundula Schiffer trägt aus ihren auf Deutsch und Hebräisch verfassten Gedichten vor\, in denen das Liebesbündnis mit der hebräischen Sprache und dem Land Israel ein zentrales Motiv sind; dazu wird die Sopranistin Sivan Yonna Lieder auf Hebräisch\, Deutsch und Ladino singen\, die auf volkstümlichen\, romantischen und sephardisch-mittelalterlichen Texten basieren\, begleitet von dem Gitarristen Tal Botvinik\, mit dem sie als Duo Meitar bereits mit einem eigenen Programm aufgetreten ist. \nDiese deutsch-israelische Veranstaltung betont die schöne\, sinnliche\, gefühlvolle „Saite“ von Lyrik\, Sprache und Musik in ihrer hebräisch-jüdisch sephardisch-deutschen Gestalt und Geschichte. \nMit freundlicher Unterstützung der Botschaft des Staates Israel\, Berlin
URL:https://literaturszene-koeln.de/termin/hingabe-in-gedichten-gesang-und-gitarrenspiel/
LOCATION:Freiraum e.V.\, Gottesweg 116 a\, Köln\, 50969\, Deutschland
CATEGORIES:Lesung mit Musik
ATTACH;FMTTYPE=image/jpeg:https://literaturszene-koeln.de/wp-content/uploads/2026/04/Hingabe.jpg
ORGANIZER;CN="Freiraum e.V.":MAILTO:freiraum@protect-data.de
END:VEVENT
BEGIN:VEVENT
DTSTART;TZID=Europe/Berlin:20260617T200000
DTEND;TZID=Europe/Berlin:20260617T213000
DTSTAMP:20260420T192758
CREATED:20260409T113433Z
LAST-MODIFIED:20260409T113433Z
UID:29674-1781726400-1781731800@literaturszene-koeln.de
SUMMARY:Jérôme Leroy: Die kleine Faschistin
DESCRIPTION:In großer Besetzung stellen wir Ihnen Jérôme Leroy und sein neues Buch vor\, am 17. Juni wird er bei uns sein. Moderieren und übersetzen wird die Journalistin Dina Netz\, der deutschsprachige Lesepart wir noch nachgereicht.  \nÜber den Geheimtipp ist der französische Autor Jérôme Leroy längst hinaus und zählt mit seinen Polit-Krimis inzwischen als fester Bestandteil zu den herausragendsten Vertretern des Krimi-Noir. Aktuell steht er mit seinem neuen Roman „Die kleine Faschistin“ auf der Krimbestenliste von DLF und DLF-Kultur. \nDer Eintritt beträgt € 20\,- inklusive aller Getränke\, Karten gibt es bei uns in der Buchhandlung. 
URL:https://literaturszene-koeln.de/termin/jerome-leroy-die-kleine-faschistin/
LOCATION:Buchhandlung Goltsteinstraße\, Goltsteinstraße 78\, Köln-Bayenthal\, 50968\, Deutschland
CATEGORIES:Autorenlesung,Buchpräsentation,Gespräche,Lesung
ATTACH;FMTTYPE=image/jpeg:https://literaturszene-koeln.de/wp-content/uploads/2026/04/Jerome-Leroy-Die-Kleine-Faschistin-9783960544760.jpg
ORGANIZER;CN="Buchhandlung Goltsteinstra%C3%9Fe":MAILTO:info@buch78.de
END:VEVENT
BEGIN:VEVENT
DTSTART;VALUE=DATE:20260625
DTEND;VALUE=DATE:20260629
DTSTAMP:20260420T192758
CREATED:20260331T123338Z
LAST-MODIFIED:20260331T123338Z
UID:29643-1782345600-1782691199@literaturszene-koeln.de
SUMMARY:Literatur am Dom 2026
DESCRIPTION:Literatur am Dom bringt vom 25.-28. Juni 2026 Bücher ins Bergische Land. Kristof Magnusson\, Anja Kampmann und Leonie Swann lesen im Schatten des Altenberger Doms. Hanns-Josef Ortheil eröffnet das Festival am Donnerstag\, den 25. Juni. \nBereits zum fünften Mal findet vom 25. bis 28. Juni 2026 Literatur am Dom – Literatur Live! statt. Auch dieses Jahr bringen Denis Scheck und Karin Graf wieder Weltliteratur an einem der romantischsten Orte Deutschlands: Der Altenberger Dom\, mitten im Bergischen Land vor den Toren Kölns\, ist die Heimat des Literaturfestivals. Durch das Programm führen Bettina Böttinger\, Sabine Küchler und Denis Scheck. \nDie Eröffnungslesung am Donnerstagabend führt zunächst in das nahegelegene Wuppertal: Hanns-Josef Ortheil nimmt das Publikum mit ›Schwebebahnen‹ mit in eine Kindheit in den 1950er-Jahren und die Erfahrungswelt eines begabten Jungen im damaligen Westdeutschland. \nDen Dingen in der Schwebe im Zentrum des Romans wird am Freitag noch einmal beim Lesedinner mit Hanns-Josef Ortheil nachgespürt. Der Freitagabend beginnt mit Anja Kampmann und einem Blick in die noch weiter zurückliegende deutsche Vergangenheit. Ihr für den Preis der Leipziger Buchmesse nominierte Roman ›Die Wut ist ein heller Stern‹ erzählt den aufsteigenden Faschismus der in den 1930er-Jahren aus der Sicht einer Varietétänzerin. Ein tierisches Abenteuer formt den Abschluss des Leseabends: Leonie Swann kehrt mit ›Widdersehen‹ zurück ins vertraute Glennkill\, wo Schafe Kriminalfälle aufklären und eine Herde ihre verschollene Hirtin rettet. \nAm Samstag tritt die Erkundung der Vergangenheit über die ehemalige innerdeutsche Grenze. Am Nachmittag liest DDR-Chronist Christoph Hein aus ›Das Narrenschiff‹\, in dem er Geschichte intim erfahrbar macht und Machtwirkung des Regimes in den zwischenmenschlichen Beziehungen nachvollzieht. Mit Helga Schubert bleiben wir am Samstagabend beim Alltag in der DDR\, geprägt von Sehnsucht und Fernweh\, Aufbruch und Abschied\, von Diktatur und innerer Freiheit\, lakonisch erzählt in ihren in ›Luft zum Leben‹ gesammelten Geschichten. \nKristof Magnussons neuer Roman\, mit dem der Festivalsonntag beginnt\, greift die Idee der literarischen Zeitreise auf: In ›Die Reise ans Ende der Geschichte‹ wird ein Dichter am Anfang der 1990er Jahre zum Spion und nimmt das Publikum mit in eine Zeit voller Optimismus und politischer Weichenstellungen\, die bis heute nachwirken. Nora Gomringer begibt sich mit ihrem Roman ›Am Meerschwein übt das Kind den Tod‹ auf eine innere Expedition hin zu ihrer 2020 verstorbenen Mutter. Zum Festivalabschluss macht Nino Haratischwili einen Abstecher ins Georgien der 1980er-Jahre: ›Das mangelnde Licht‹ erzählt von historischer und sexualisierter Gewalt\, aber auch von Freundschaft und Leichtigkeit im Leben der vier Frauen\, die sie gemeinsam erleben und erinnern. \nSeit 2022 kuratieren die Literaturagentin\, Übersetzerin und Unternehmerin Karin Graf und der Literaturkritiker\, Journalist und Moderator Denis Scheck jährlich das Literaturfestival im Städtedreieck zwischen Köln\, Leverkusen und Düsseldorf: „Literatur ist nach Albert Camus die Lüge\, mit der wir uns die Wahrheit sagen. Auch in diesem Jahr laden wir alle Leserinnen und Leser ein\, in Altenberg jene Wahrheiten der Literatur zu erfahren\, wie sie nicht in der Zeitung stehen“\, so Denis Scheck. \nAuch Karin Graf betont die Vermittlerrolle der Literatur\, die die Romane in dieser Festivalausgabe in besonders starker Weise ausfüllen: „Von der Schwebebahn zu den Sternen\, vom Wasser zur Luft führt uns das Festival dieses Jahr. Das ist die Hauptfreude für mich\, dass das Programm von Literatur am Dom dem Publikum jedes Jahr eine veritable Abenteuerreise bietet. Zum Glück nicht ganz so gefährlich wie die in Kristof Magnussons Roman ›Die Reise ans Ende der Geschichte‹\, denn wir bewegen uns\, sicher geleitet von den Autoren und Autorinnen\, in den Gefilden der Imagination und laden Sie herzlich ein\, uns zu begleiten.“ \nDas Festival steht unter der Schirmherrschaft von Ina Brandes MdL\, Ministerin für Kultur und Wissenschaft des Landes Nordrhein-Westfalen. \nDer Förderverein Literatur am Dom e. V. organisiert das Festival unter Vorsitz von Sema Prinzessin zu Sayn-Wittgenstein\, mit finanzieller Unterstützung der Volksbank Berg eG\, der BELKAW GmbH\, der Sparkasse Leverkusen\,des Altenberger Hofs und der Steingruppe und in Kooperation mit dem Rheinisch-Bergischen Kreis. \nDie Open-Air-Lesungen finden im Kräutergarten des Restaurants Küchenhof statt. Außerdem öffnet der Altenberger Hof seine Türen und lädt zum Lesedinner mit Hanns-Josef Ortheil am Freitag auf die Hotelterrasse ein. Die Küchenparty mit Dieter Müller und Marlon Rademacher am Samstag findet in der Restaurantküche und auf der Terrasse des Altenberger Hofs statt. Bei schlechtem Wetter wird das Essen jeweils in das Restaurant des Altenberger Hofs verlegt. \nTickets sind ab sofort erhältlich unter www.literatur-am-dom.de. Der Eintritt für alle Lesungen liegt bei 24 €\, Schülerinnen und Schüler\, Studierende sowie Personen im Rollstuhl und Schwerbehinderte mit einem B im Ausweis zahlen ermäßigt 18 €. Beim Lesedinner kann man für 95 € und bei der Küchenparty für 195 € dabei sein. \nMehr Literatur am Dom auf Instagram: @literatur_am_dom
URL:https://literaturszene-koeln.de/termin/literatur-am-dom-2026/
LOCATION:Odenthal\, Odenthal\, 51519\, Germany
CATEGORIES:Festival
ATTACH;FMTTYPE=image/jpeg:https://literaturszene-koeln.de/wp-content/uploads/2026/03/Literatur-am-Dom-26.jpg
END:VEVENT
END:VCALENDAR